BEGIN:VCALENDAR
VERSION:2.0
PRODID:-//eventon.com NONSGML v1.0//EN
CALSCALE:GREGORIAN
METHOD:PUBLISH
BEGIN:VEVENT
UID:69ea22408be2e
DTSTAMP:20260423T134432Z
DTSTART:20260426T090000Z
DTEND:20260426T120000Z
LOCATION:
SUMMARY:Rafting RÃ­o Ara (sÃ³lo primavera)
DESCRIPTION:Rafting RÃ­o Ara (Clase IV). RESERVA El descenso en raftingÂ mÃ
 ¡s emocionante de los PirineosÂ es\,  quizÃ¡s\,  el delÂ RÃ­o Ara\, Â y su 
 tramo deÂ Torla a Broto\,  muy cerca delÂ Parque Nacional de Ordesa y Monte
  Perdido. De clase IV\,  es necesario y obligatorio saber nadar. Debido a s
 u compromiso\,  es muy recomendableÂ que lo realicenÂ mayores[..]\nhttps://
 casteret.es/events/rafting-rio-ara-solo-primavera-12/
URL:https://casteret.es/events/rafting-rio-ara-solo-primavera-12/
END:VEVENT
END:VCALENDAR