BEGIN:VCALENDAR
VERSION:2.0
PRODID:-//eventon.com NONSGML v1.0//EN
CALSCALE:GREGORIAN
METHOD:PUBLISH
BEGIN:VEVENT
UID:69ea0e9a20eb9
DTSTAMP:20260423T122042Z
DTSTART:20260425T090000Z
DTEND:20260425T120000Z
LOCATION:
SUMMARY:Rafting RÃ­o Ara (sÃ³lo primavera)
DESCRIPTION:Rafting RÃ­o Ara (Clase IV). RESERVA El descenso en raftingÂ mÃ
 ¡s emocionante de los PirineosÂ es\,  quizÃ¡s\,  el delÂ RÃ­o Ara\, Â y su 
 tramo deÂ Torla a Broto\,  muy cerca delÂ Parque Nacional de Ordesa y Monte
  Perdido. De clase IV\,  es necesario y obligatorio saber nadar. Debido a s
 u compromiso\,  es muy recomendableÂ que lo realicenÂ mayores[..]\nhttps://
 casteret.es/events/rafting-rio-ara-solo-primavera-11/
URL:https://casteret.es/events/rafting-rio-ara-solo-primavera-11/
END:VEVENT
END:VCALENDAR